BEGIN:VCALENDAR
VERSION:2.0
PRODID:-//Community Health Association Inland Southern Region - ECPv6.15.20//NONSGML v1.0//EN
CALSCALE:GREGORIAN
METHOD:PUBLISH
X-WR-CALNAME:Community Health Association Inland Southern Region
X-ORIGINAL-URL:https://chaisr.org
X-WR-CALDESC:Events for Community Health Association Inland Southern Region
REFRESH-INTERVAL;VALUE=DURATION:PT1H
X-Robots-Tag:noindex
X-PUBLISHED-TTL:PT1H
BEGIN:VTIMEZONE
TZID:America/Los_Angeles
BEGIN:DAYLIGHT
TZOFFSETFROM:-0800
TZOFFSETTO:-0700
TZNAME:PDT
DTSTART:20250309T100000
END:DAYLIGHT
BEGIN:STANDARD
TZOFFSETFROM:-0700
TZOFFSETTO:-0800
TZNAME:PST
DTSTART:20251102T090000
END:STANDARD
BEGIN:DAYLIGHT
TZOFFSETFROM:-0800
TZOFFSETTO:-0700
TZNAME:PDT
DTSTART:20260308T100000
END:DAYLIGHT
BEGIN:STANDARD
TZOFFSETFROM:-0700
TZOFFSETTO:-0800
TZNAME:PST
DTSTART:20261101T090000
END:STANDARD
BEGIN:DAYLIGHT
TZOFFSETFROM:-0800
TZOFFSETTO:-0700
TZNAME:PDT
DTSTART:20270314T100000
END:DAYLIGHT
BEGIN:STANDARD
TZOFFSETFROM:-0700
TZOFFSETTO:-0800
TZNAME:PST
DTSTART:20271107T090000
END:STANDARD
END:VTIMEZONE
BEGIN:VEVENT
DTSTART;TZID=America/Los_Angeles:20260425T090000
DTEND;TZID=America/Los_Angeles:20260425T120000
DTSTAMP:20260425T033121
CREATED:20260421T184235Z
LAST-MODIFIED:20260421T184235Z
UID:4029-1777107600-1777118400@chaisr.org
SUMMARY:Together in Teal Step Up for Survivors: April 25 9am-12pm
DESCRIPTION:
URL:https://chaisr.org/event/together-in-teal-step-up-for-survivors-april-25-9am-12pm/
END:VEVENT
BEGIN:VEVENT
DTSTART;TZID=America/Los_Angeles:20260425T100000
DTEND;TZID=America/Los_Angeles:20260425T140000
DTSTAMP:20260425T033121
CREATED:20260421T184007Z
LAST-MODIFIED:20260421T184007Z
UID:4027-1777111200-1777125600@chaisr.org
SUMMARY:National Take Back Day: April 25 10am-2pm
DESCRIPTION:
URL:https://chaisr.org/event/national-take-back-day-april-25-10am-2pm/
END:VEVENT
BEGIN:VEVENT
DTSTART;TZID=America/Los_Angeles:20260425T180000
DTEND;TZID=America/Los_Angeles:20260425T220000
DTSTAMP:20260425T033121
CREATED:20260319T172608Z
LAST-MODIFIED:20260319T172608Z
UID:3813-1777140000-1777154400@chaisr.org
SUMMARY:Tacos and Trivia - Upland\, CA
DESCRIPTION:
URL:https://chaisr.org/event/tacos-and-trivia-upland-ca/
END:VEVENT
BEGIN:VEVENT
DTSTART;TZID=America/Los_Angeles:20260425T180000
DTEND;TZID=America/Los_Angeles:20260425T230000
DTSTAMP:20260425T033121
CREATED:20260421T184741Z
LAST-MODIFIED:20260421T184741Z
UID:4031-1777140000-1777158000@chaisr.org
SUMMARY:Tacos & Trivia: April 25 6pm
DESCRIPTION:
URL:https://chaisr.org/event/tacos-trivia-april-25-6pm/
END:VEVENT
END:VCALENDAR