BEGIN:VCALENDAR
VERSION:2.0
PRODID:-//Community Health Association Inland Southern Region - ECPv6.15.20//NONSGML v1.0//EN
CALSCALE:GREGORIAN
METHOD:PUBLISH
X-ORIGINAL-URL:https://chaisr.org
X-WR-CALDESC:Events for Community Health Association Inland Southern Region
REFRESH-INTERVAL;VALUE=DURATION:PT1H
X-Robots-Tag:noindex
X-PUBLISHED-TTL:PT1H
BEGIN:VTIMEZONE
TZID:America/Los_Angeles
BEGIN:DAYLIGHT
TZOFFSETFROM:-0800
TZOFFSETTO:-0700
TZNAME:PDT
DTSTART:20250309T100000
END:DAYLIGHT
BEGIN:STANDARD
TZOFFSETFROM:-0700
TZOFFSETTO:-0800
TZNAME:PST
DTSTART:20251102T090000
END:STANDARD
BEGIN:DAYLIGHT
TZOFFSETFROM:-0800
TZOFFSETTO:-0700
TZNAME:PDT
DTSTART:20260308T100000
END:DAYLIGHT
BEGIN:STANDARD
TZOFFSETFROM:-0700
TZOFFSETTO:-0800
TZNAME:PST
DTSTART:20261101T090000
END:STANDARD
BEGIN:DAYLIGHT
TZOFFSETFROM:-0800
TZOFFSETTO:-0700
TZNAME:PDT
DTSTART:20270314T100000
END:DAYLIGHT
BEGIN:STANDARD
TZOFFSETFROM:-0700
TZOFFSETTO:-0800
TZNAME:PST
DTSTART:20271107T090000
END:STANDARD
END:VTIMEZONE
BEGIN:VEVENT
DTSTART;TZID=America/Los_Angeles:20260321T100000
DTEND;TZID=America/Los_Angeles:20260321T150000
DTSTAMP:20260425T083950
CREATED:20260312T214026Z
LAST-MODIFIED:20260312T214026Z
UID:3683-1774087200-1774105200@chaisr.org
SUMMARY:Easter Community Festival - San Bernardino\, Ca
DESCRIPTION:
URL:https://chaisr.org/event/easter-community-festival-san-bernardino-ca/
END:VEVENT
BEGIN:VEVENT
DTSTART;TZID=America/Los_Angeles:20260321T100000
DTEND;TZID=America/Los_Angeles:20260321T150000
DTSTAMP:20260425T083950
CREATED:20260317T185904Z
LAST-MODIFIED:20260317T185904Z
UID:3752-1774087200-1774105200@chaisr.org
SUMMARY:Easter Community Festival
DESCRIPTION:
URL:https://chaisr.org/event/easter-community-festival/
END:VEVENT
BEGIN:VEVENT
DTSTART;TZID=America/Los_Angeles:20260321T190000
DTEND;TZID=America/Los_Angeles:20260321T233000
DTSTAMP:20260425T083950
CREATED:20260317T184245Z
LAST-MODIFIED:20260317T184245Z
UID:3740-1774119600-1774135800@chaisr.org
SUMMARY:Moor Laughs Comedy Nights
DESCRIPTION:
URL:https://chaisr.org/event/moor-laughs-comedy-nights/
END:VEVENT
BEGIN:VEVENT
DTSTART;TZID=America/Los_Angeles:20260322T090000
DTEND;TZID=America/Los_Angeles:20260322T110000
DTSTAMP:20260425T083950
CREATED:20260317T230014Z
LAST-MODIFIED:20260317T230014Z
UID:3797-1774170000-1774177200@chaisr.org
SUMMARY:IE Singing Resistance
DESCRIPTION:
URL:https://chaisr.org/event/ie-singing-resistance/
END:VEVENT
BEGIN:VEVENT
DTSTART;TZID=America/Los_Angeles:20260323T080000
DTEND;TZID=America/Los_Angeles:20260403T170000
DTSTAMP:20260425T083950
CREATED:20260317T174258Z
LAST-MODIFIED:20260317T174258Z
UID:3719-1774252800-1775235600@chaisr.org
SUMMARY:CHSI Easter Basket Giveaway
DESCRIPTION:
URL:https://chaisr.org/event/chsi-easter-basket-giveaway/
END:VEVENT
BEGIN:VEVENT
DTSTART;TZID=America/Los_Angeles:20260323T173000
DTEND;TZID=America/Los_Angeles:20260323T193000
DTSTAMP:20260425T083950
CREATED:20260312T214330Z
LAST-MODIFIED:20260312T214330Z
UID:3686-1774287000-1774294200@chaisr.org
SUMMARY:Community Health Forum - Fontana\, Ca
DESCRIPTION:
URL:https://chaisr.org/event/community-health-forum-fontana-ca/
END:VEVENT
BEGIN:VEVENT
DTSTART;TZID=America/Los_Angeles:20260323T173000
DTEND;TZID=America/Los_Angeles:20260323T193000
DTSTAMP:20260425T083950
CREATED:20260317T190221Z
LAST-MODIFIED:20260317T190221Z
UID:3756-1774287000-1774294200@chaisr.org
SUMMARY:Community Health Forum
DESCRIPTION:
URL:https://chaisr.org/event/community-health-forum/
END:VEVENT
BEGIN:VEVENT
DTSTART;TZID=America/Los_Angeles:20260324T140000
DTEND;TZID=America/Los_Angeles:20260324T180000
DTSTAMP:20260425T083950
CREATED:20260317T225014Z
LAST-MODIFIED:20260317T225014Z
UID:3789-1774360800-1774375200@chaisr.org
SUMMARY:Abstraction Coffee (occurs from mon-fri)
DESCRIPTION:
URL:https://chaisr.org/event/abstraction-coffee-occurs-from-mon-fri/
END:VEVENT
BEGIN:VEVENT
DTSTART;TZID=America/Los_Angeles:20260324T160000
DTEND;TZID=America/Los_Angeles:20260324T170000
DTSTAMP:20260425T083950
CREATED:20260312T213428Z
LAST-MODIFIED:20260312T213428Z
UID:3675-1774368000-1774371600@chaisr.org
SUMMARY:Street Vending Workshop - Barstow\, Ca
DESCRIPTION:
URL:https://chaisr.org/event/street-vending-workshop-barstow-ca/
END:VEVENT
BEGIN:VEVENT
DTSTART;TZID=America/Los_Angeles:20260324T160000
DTEND;TZID=America/Los_Angeles:20260324T170000
DTSTAMP:20260425T083950
CREATED:20260317T191434Z
LAST-MODIFIED:20260317T191434Z
UID:3760-1774368000-1774371600@chaisr.org
SUMMARY:Street Vending Workshop
DESCRIPTION:
URL:https://chaisr.org/event/street-vending-workshop/
END:VEVENT
BEGIN:VEVENT
DTSTART;TZID=America/Los_Angeles:20260325T120000
DTEND;TZID=America/Los_Angeles:20260325T130000
DTSTAMP:20260425T083950
CREATED:20260317T192056Z
LAST-MODIFIED:20260317T192056Z
UID:3768-1774440000-1774443600@chaisr.org
SUMMARY:I. D. E. A. - Bridging Gaps in Diabetes Education for Inland Empire's LatinX Community
DESCRIPTION:
URL:https://chaisr.org/event/i-d-e-a-bridging-gaps-in-diabetes-education-for-inland-empires-latinx-community/
END:VEVENT
BEGIN:VEVENT
DTSTART;TZID=America/Los_Angeles:20260326T180000
DTEND;TZID=America/Los_Angeles:20260326T200000
DTSTAMP:20260425T083950
CREATED:20260317T232224Z
LAST-MODIFIED:20260317T232224Z
UID:3801-1774548000-1774555200@chaisr.org
SUMMARY:Know Your Rights
DESCRIPTION:
URL:https://chaisr.org/event/know-your-rights/
END:VEVENT
BEGIN:VEVENT
DTSTART;TZID=America/Los_Angeles:20260327T190000
DTEND;TZID=America/Los_Angeles:20260327T220000
DTSTAMP:20260425T083950
CREATED:20260317T185049Z
LAST-MODIFIED:20260317T185049Z
UID:3744-1774638000-1774648800@chaisr.org
SUMMARY:Word 99
DESCRIPTION:
URL:https://chaisr.org/event/word-99/
END:VEVENT
BEGIN:VEVENT
DTSTART;TZID=America/Los_Angeles:20260328T100000
DTEND;TZID=America/Los_Angeles:20260328T160000
DTSTAMP:20260425T083950
CREATED:20251031T203232Z
LAST-MODIFIED:20251031T203232Z
UID:3172-1774692000-1774713600@chaisr.org
SUMMARY:Family and Birthworker Expo - Victorville\, Ca
DESCRIPTION:Fa
URL:https://chaisr.org/event/family-and-birthworker-expo-victorville-ca/
END:VEVENT
BEGIN:VEVENT
DTSTART;TZID=America/Los_Angeles:20260328T100000
DTEND;TZID=America/Los_Angeles:20260328T160000
DTSTAMP:20260425T083950
CREATED:20260123T232059Z
LAST-MODIFIED:20260123T232059Z
UID:3476-1774692000-1774713600@chaisr.org
SUMMARY:Family & Birthworker Expo - High Desert
DESCRIPTION:
URL:https://chaisr.org/event/family-birthworker-expo-high-desert/
END:VEVENT
BEGIN:VEVENT
DTSTART;TZID=America/Los_Angeles:20260328T100000
DTEND;TZID=America/Los_Angeles:20260328T160000
DTSTAMP:20260425T083950
CREATED:20260317T192334Z
LAST-MODIFIED:20260317T192334Z
UID:3772-1774692000-1774713600@chaisr.org
SUMMARY:Stronger Together: High Desert Family & Birthworker Expo
DESCRIPTION:
URL:https://chaisr.org/event/stronger-together-high-desert-family-birthworker-expo/
END:VEVENT
BEGIN:VEVENT
DTSTART;TZID=America/Los_Angeles:20260328T110000
DTEND;TZID=America/Los_Angeles:20260328T140000
DTSTAMP:20260425T083950
CREATED:20260317T175132Z
LAST-MODIFIED:20260317T175132Z
UID:3723-1774695600-1774706400@chaisr.org
SUMMARY:Voices on the Wall - Youth Mural Series
DESCRIPTION:
URL:https://chaisr.org/event/voices-on-the-wall-youth-mural-series/
END:VEVENT
BEGIN:VEVENT
DTSTART;TZID=America/Los_Angeles:20260328T110000
DTEND;TZID=America/Los_Angeles:20260328T140000
DTSTAMP:20260425T083950
CREATED:20260317T185641Z
LAST-MODIFIED:20260317T185641Z
UID:3748-1774695600-1774706400@chaisr.org
SUMMARY:Youth Mural Series
DESCRIPTION:
URL:https://chaisr.org/event/youth-mural-series/
END:VEVENT
BEGIN:VEVENT
DTSTART;TZID=America/Los_Angeles:20260328T123000
DTEND;TZID=America/Los_Angeles:20260328T150000
DTSTAMP:20260425T083950
CREATED:20260312T214931Z
LAST-MODIFIED:20260312T214931Z
UID:3690-1774701000-1774710000@chaisr.org
SUMMARY:College & Career Fair - Apple Valley\, Ca
DESCRIPTION:
URL:https://chaisr.org/event/college-career-fair-apple-valley-ca/
END:VEVENT
BEGIN:VEVENT
DTSTART;TZID=America/Los_Angeles:20260328T123000
DTEND;TZID=America/Los_Angeles:20260328T150000
DTSTAMP:20260425T083950
CREATED:20260319T171722Z
LAST-MODIFIED:20260319T171722Z
UID:3805-1774701000-1774710000@chaisr.org
SUMMARY:CalKids College & Career Fair - Apple Valley\, CA
DESCRIPTION:
URL:https://chaisr.org/event/calkids-college-career-fair-apple-valley-ca/
END:VEVENT
BEGIN:VEVENT
DTSTART;TZID=America/Los_Angeles:20260329T140000
DTEND;TZID=America/Los_Angeles:20260329T180000
DTSTAMP:20260425T083950
CREATED:20260317T223753Z
LAST-MODIFIED:20260317T223753Z
UID:3785-1774792800-1774807200@chaisr.org
SUMMARY:Salsa Cafe
DESCRIPTION:
URL:https://chaisr.org/event/salsa-cafe/
END:VEVENT
BEGIN:VEVENT
DTSTART;TZID=America/Los_Angeles:20260331T180000
DTEND;TZID=America/Los_Angeles:20260331T200000
DTSTAMP:20260425T083950
CREATED:20260317T225405Z
LAST-MODIFIED:20260317T225405Z
UID:3793-1774980000-1774987200@chaisr.org
SUMMARY:MWA Drums with Ms. Toti (multiple dates\, see flyer)
DESCRIPTION:
URL:https://chaisr.org/event/mwa-drums-with-ms-toti-multiple-dates-see-flyer/
END:VEVENT
BEGIN:VEVENT
DTSTART;TZID=America/Los_Angeles:20260408T110000
DTEND;TZID=America/Los_Angeles:20260408T130000
DTSTAMP:20260425T083950
CREATED:20260312T215249Z
LAST-MODIFIED:20260312T215249Z
UID:3693-1775646000-1775653200@chaisr.org
SUMMARY:Resource Fair - Apple Valley\, Ca
DESCRIPTION:
URL:https://chaisr.org/event/resource-fair-apple-valley-ca/
END:VEVENT
BEGIN:VEVENT
DTSTART;TZID=America/Los_Angeles:20260408T110000
DTEND;TZID=America/Los_Angeles:20260408T130000
DTSTAMP:20260425T083950
CREATED:20260317T192715Z
LAST-MODIFIED:20260317T192715Z
UID:3776-1775646000-1775653200@chaisr.org
SUMMARY:Senior Kicks Club Resource Fair
DESCRIPTION:
URL:https://chaisr.org/event/senior-kicks-club-resource-fair/
END:VEVENT
BEGIN:VEVENT
DTSTART;TZID=America/Los_Angeles:20260411T090000
DTEND;TZID=America/Los_Angeles:20260411T170000
DTSTAMP:20260425T083950
CREATED:20260317T193023Z
LAST-MODIFIED:20260317T193023Z
UID:3780-1775898000-1775926800@chaisr.org
SUMMARY:Doula Certification Training (multiple dates)
DESCRIPTION:
URL:https://chaisr.org/event/doula-certification-training-multiple-dates/
END:VEVENT
BEGIN:VEVENT
DTSTART;TZID=America/Los_Angeles:20260411T100000
DTEND;TZID=America/Los_Angeles:20260411T123000
DTSTAMP:20260425T083950
CREATED:20260319T172234Z
LAST-MODIFIED:20260319T172234Z
UID:3809-1775901600-1775910600@chaisr.org
SUMMARY:Special Needs Resource and Family Fun Day - Fontana\, CA
DESCRIPTION:
URL:https://chaisr.org/event/special-needs-resource-and-family-fun-day-fontana-ca/
END:VEVENT
BEGIN:VEVENT
DTSTART;TZID=America/Los_Angeles:20260416T150000
DTEND;TZID=America/Los_Angeles:20260416T200000
DTSTAMP:20260425T083950
CREATED:20260212T224316Z
LAST-MODIFIED:20260212T224316Z
UID:3646-1776351600-1776369600@chaisr.org
SUMMARY:Inland Empire Perinatal Equity Provider Summit - virtual
DESCRIPTION:IE Perinatal Equity Summit_Registration Form_V6_012726 FINAL
URL:https://chaisr.org/event/inland-empire-perinatal-equity-provider-summit-virtual/
END:VEVENT
BEGIN:VEVENT
DTSTART;TZID=America/Los_Angeles:20260421T080000
DTEND;TZID=America/Los_Angeles:20260421T170000
DTSTAMP:20260425T083950
CREATED:20260421T220248Z
LAST-MODIFIED:20260421T220248Z
UID:4054-1776758400-1776790800@chaisr.org
SUMMARY:2026 Community Event Program at Colton (see details)
DESCRIPTION:
URL:https://chaisr.org/event/2026-community-event-program-at-colton-see-details/
END:VEVENT
BEGIN:VEVENT
DTSTART;TZID=America/Los_Angeles:20260422T080000
DTEND;TZID=America/Los_Angeles:20260422T170000
DTSTAMP:20260425T083950
CREATED:20260422T204657Z
LAST-MODIFIED:20260422T204657Z
UID:4101-1776844800-1776877200@chaisr.org
SUMMARY:REEL Reality Fentanyl Awareness Film Contest: April 27\, 4-6pm
DESCRIPTION:REEL Reality Fentanyl Awareness Film Contest\nHigh school students in San Bernardino County’s 5th District are invited to create a 30–60 second video raising awareness about the dangers of fentanyl. Presented by Board of Supervisor Joe Baca Jr.\, the Department of Behavioral Health\, and the Department of Public Health\, the REEL Reality Fentanyl Awareness Film Contest will conclude with a Red-Carpet Film Screening and Awards Ceremony to honor participants’ impactful work. \nEvent Date\, Time\, & Location: Monday\, April 27 | 4:00 – 6:00 p.m.\, Regal San Bernardino\, 450 N. E St\, San Bernardino \nRegistration Link: https://www.eventcreate.com/e/reel-reality-baca
URL:https://chaisr.org/event/reel-reality-fentanyl-awareness-film-contest-april-27-4-6pm/
END:VEVENT
BEGIN:VEVENT
DTSTART;TZID=America/Los_Angeles:20260422T080000
DTEND;TZID=America/Los_Angeles:20260422T170000
DTSTAMP:20260425T083950
CREATED:20260422T205103Z
LAST-MODIFIED:20260422T205103Z
UID:4103-1776844800-1776877200@chaisr.org
SUMMARY:Directing Change Award Ceremony & Film Screening: May 2\, 2-4pm
DESCRIPTION:The Directing Change Award Ceremony celebrates the creativity\, passion\, and commitment of youth across the county. This inspiring event honors students participating in the Directing Change Program & Film Contest\, which promotes mental health awareness and suicide prevention through powerful short films. \nEvent Date\, Time\, & Location: Saturday\, May 2 | 2:00 – 4:00 p.m.\, Regal Edwards Ontario Mountain Village\, 1575 N. Mountain Ave.\, Ontario \nRegistration Link: https://www.eventcreate.com/e/directing-change- \n 
URL:https://chaisr.org/event/directing-change-award-ceremony-film-screening-may-2-2-4pm/
END:VEVENT
END:VCALENDAR