BEGIN:VCALENDAR
VERSION:2.0
PRODID:-//Community Health Association Inland Southern Region - ECPv6.15.20//NONSGML v1.0//EN
CALSCALE:GREGORIAN
METHOD:PUBLISH
X-WR-CALNAME:Community Health Association Inland Southern Region
X-ORIGINAL-URL:https://chaisr.org
X-WR-CALDESC:Events for Community Health Association Inland Southern Region
REFRESH-INTERVAL;VALUE=DURATION:PT1H
X-Robots-Tag:noindex
X-PUBLISHED-TTL:PT1H
BEGIN:VTIMEZONE
TZID:America/Los_Angeles
BEGIN:DAYLIGHT
TZOFFSETFROM:-0800
TZOFFSETTO:-0700
TZNAME:PDT
DTSTART:20250309T100000
END:DAYLIGHT
BEGIN:STANDARD
TZOFFSETFROM:-0700
TZOFFSETTO:-0800
TZNAME:PST
DTSTART:20251102T090000
END:STANDARD
BEGIN:DAYLIGHT
TZOFFSETFROM:-0800
TZOFFSETTO:-0700
TZNAME:PDT
DTSTART:20260308T100000
END:DAYLIGHT
BEGIN:STANDARD
TZOFFSETFROM:-0700
TZOFFSETTO:-0800
TZNAME:PST
DTSTART:20261101T090000
END:STANDARD
BEGIN:DAYLIGHT
TZOFFSETFROM:-0800
TZOFFSETTO:-0700
TZNAME:PDT
DTSTART:20270314T100000
END:DAYLIGHT
BEGIN:STANDARD
TZOFFSETFROM:-0700
TZOFFSETTO:-0800
TZNAME:PST
DTSTART:20271107T090000
END:STANDARD
END:VTIMEZONE
BEGIN:VEVENT
DTSTART;TZID=America/Los_Angeles:20260422T080000
DTEND;TZID=America/Los_Angeles:20260422T170000
DTSTAMP:20260425T134326
CREATED:20260422T205218Z
LAST-MODIFIED:20260422T205218Z
UID:4105-1776844800-1776877200@chaisr.org
SUMMARY:Behavioral Health Commission Luncheon: May 7\, 12-2pm
DESCRIPTION:Behavioral Health Commission Luncheon\nJoin the San Bernardino County Department of Behavioral Health as we kick off Mental Health Awareness Month in May with our commissioners and community partners. Lunch will be provided. \nEvent Date\, Time\, & Location: Thursday\, May 7 | 12:00 – 2:00 p.m.\, Behavioral Health Services Auditorium\, 850 E. Foothill Blvd.\, Rialto \nRegistration Link: https://forms.cloud.microsoft/g/JHQjcaPxL9
URL:https://chaisr.org/event/behavioral-health-commission-luncheon-may-7-12-2pm/
END:VEVENT
BEGIN:VEVENT
DTSTART;TZID=America/Los_Angeles:20260422T080000
DTEND;TZID=America/Los_Angeles:20260422T170000
DTSTAMP:20260425T134326
CREATED:20260422T205346Z
LAST-MODIFIED:20260422T205346Z
UID:4107-1776844800-1776877200@chaisr.org
SUMMARY:Meet the Artist Exhibition - May 15\, 6:30-8:00pm
DESCRIPTION:Meet the Artist Exhibition\nThe San Bernardino County Department of Behavioral Health invites emerging artists to submit original work highlighting mental health or suicide prevention awareness in honor of Mental Health Awareness Month. Selected pieces will be featured in our free in-person Meet the Artist Exhibition\, including an opening reception. \nEvent Date\, Time\, & Location: Friday\, May 15 | 6:30 – 8:00 p.m.\, Fontana Lewis Library and Technology Center\, 8437 Sierra Avenue\, Fontana \nRegistration Link: https://www.eventcreate.com/e/meettheartist
URL:https://chaisr.org/event/meet-the-artist-exhibition-may-15-630-800pm/
END:VEVENT
BEGIN:VEVENT
DTSTART;TZID=America/Los_Angeles:20260422T110000
DTEND;TZID=America/Los_Angeles:20260422T123000
DTSTAMP:20260425T134326
CREATED:20260421T183021Z
LAST-MODIFIED:20260421T183021Z
UID:4019-1776855600-1776861000@chaisr.org
SUMMARY:Child Abuse Prevention Month April 2026 Webinar Series
DESCRIPTION:
URL:https://chaisr.org/event/child-abuse-prevention-month-april-2026-webinar-series/
END:VEVENT
BEGIN:VEVENT
DTSTART;TZID=America/Los_Angeles:20260422T170000
DTEND;TZID=America/Los_Angeles:20260422T190000
DTSTAMP:20260425T134326
CREATED:20260421T183644Z
LAST-MODIFIED:20260421T183644Z
UID:4023-1776877200-1776884400@chaisr.org
SUMMARY:Reach Out Community Health Forum: April 22 5-7pm
DESCRIPTION:
URL:https://chaisr.org/event/reach-out-community-health-forum-april-22-5-7pm/
END:VEVENT
BEGIN:VEVENT
DTSTART;TZID=America/Los_Angeles:20260424T080000
DTEND;TZID=America/Los_Angeles:20260424T170000
DTSTAMP:20260425T134326
CREATED:20260421T183825Z
LAST-MODIFIED:20260421T183825Z
UID:4025-1777017600-1777050000@chaisr.org
SUMMARY:VSSN Discussions in Healthcare Breakfast: April 24 8am
DESCRIPTION:
URL:https://chaisr.org/event/vssn-discussions-in-healthcare-breakfast-april-24-8am/
END:VEVENT
BEGIN:VEVENT
DTSTART;TZID=America/Los_Angeles:20260425T090000
DTEND;TZID=America/Los_Angeles:20260425T120000
DTSTAMP:20260425T134326
CREATED:20260421T184235Z
LAST-MODIFIED:20260421T184235Z
UID:4029-1777107600-1777118400@chaisr.org
SUMMARY:Together in Teal Step Up for Survivors: April 25 9am-12pm
DESCRIPTION:
URL:https://chaisr.org/event/together-in-teal-step-up-for-survivors-april-25-9am-12pm/
END:VEVENT
BEGIN:VEVENT
DTSTART;TZID=America/Los_Angeles:20260425T100000
DTEND;TZID=America/Los_Angeles:20260425T140000
DTSTAMP:20260425T134326
CREATED:20260421T184007Z
LAST-MODIFIED:20260421T184007Z
UID:4027-1777111200-1777125600@chaisr.org
SUMMARY:National Take Back Day: April 25 10am-2pm
DESCRIPTION:
URL:https://chaisr.org/event/national-take-back-day-april-25-10am-2pm/
END:VEVENT
BEGIN:VEVENT
DTSTART;TZID=America/Los_Angeles:20260425T180000
DTEND;TZID=America/Los_Angeles:20260425T220000
DTSTAMP:20260425T134326
CREATED:20260319T172608Z
LAST-MODIFIED:20260319T172608Z
UID:3813-1777140000-1777154400@chaisr.org
SUMMARY:Tacos and Trivia - Upland\, CA
DESCRIPTION:
URL:https://chaisr.org/event/tacos-and-trivia-upland-ca/
END:VEVENT
BEGIN:VEVENT
DTSTART;TZID=America/Los_Angeles:20260425T180000
DTEND;TZID=America/Los_Angeles:20260425T230000
DTSTAMP:20260425T134326
CREATED:20260421T184741Z
LAST-MODIFIED:20260421T184741Z
UID:4031-1777140000-1777158000@chaisr.org
SUMMARY:Tacos & Trivia: April 25 6pm
DESCRIPTION:
URL:https://chaisr.org/event/tacos-trivia-april-25-6pm/
END:VEVENT
BEGIN:VEVENT
DTSTART;VALUE=DATE:20260429
DTEND;VALUE=DATE:20260430
DTSTAMP:20260425T134326
CREATED:20260212T223023Z
LAST-MODIFIED:20260212T223023Z
UID:3643-1777420800-1777507199@chaisr.org
SUMMARY:Harrison Elementary PTA Resource Fair
DESCRIPTION:vendor flyer resource fair
URL:https://chaisr.org/event/harrison-elementary-pta-resource-fair/
END:VEVENT
BEGIN:VEVENT
DTSTART;TZID=America/Los_Angeles:20260429T120000
DTEND;TZID=America/Los_Angeles:20260429T130000
DTSTAMP:20260425T134326
CREATED:20260421T212643Z
LAST-MODIFIED:20260421T212643Z
UID:4035-1777464000-1777467600@chaisr.org
SUMMARY:Removing Barriers to Care for Patients with Disabilities: April 29 12-1pm
DESCRIPTION:
URL:https://chaisr.org/event/removing-barriers-to-care-for-patients-with-disabilities-april-29-12-1pm/
END:VEVENT
BEGIN:VEVENT
DTSTART;TZID=America/Los_Angeles:20260429T170000
DTEND;TZID=America/Los_Angeles:20260429T193000
DTSTAMP:20260425T134326
CREATED:20260421T185127Z
LAST-MODIFIED:20260421T185127Z
UID:4033-1777482000-1777491000@chaisr.org
SUMMARY:Reach Out Community Health Forum: April 29 5-7:30pm
DESCRIPTION:
URL:https://chaisr.org/event/reach-out-community-health-forum-april-29-5-730pm/
END:VEVENT
BEGIN:VEVENT
DTSTART;TZID=America/Los_Angeles:20260502T090000
DTEND;TZID=America/Los_Angeles:20260502T120000
DTSTAMP:20260425T134326
CREATED:20260421T213551Z
LAST-MODIFIED:20260421T213551Z
UID:4041-1777712400-1777723200@chaisr.org
SUMMARY:FREE Community Health and Diabetes Education Event: May 2 9am-12pm
DESCRIPTION:
URL:https://chaisr.org/event/free-community-health-and-diabetes-education-event-may-2-9am-12pm/
END:VEVENT
BEGIN:VEVENT
DTSTART;TZID=America/Los_Angeles:20260502T100000
DTEND;TZID=America/Los_Angeles:20260502T140000
DTSTAMP:20260425T134326
CREATED:20260319T174322Z
LAST-MODIFIED:20260319T174322Z
UID:3817-1777716000-1777730400@chaisr.org
SUMMARY:Community Health and Resource Fairy - Yucca Valley
DESCRIPTION:
URL:https://chaisr.org/event/community-health-and-resource-fairy-yucca-valley/
END:VEVENT
BEGIN:VEVENT
DTSTART;TZID=America/Los_Angeles:20260502T100000
DTEND;TZID=America/Los_Angeles:20260502T140000
DTSTAMP:20260425T134326
CREATED:20260421T212836Z
LAST-MODIFIED:20260421T212836Z
UID:4037-1777716000-1777730400@chaisr.org
SUMMARY:Feria Communitaria De Sauld Y Recursos: May 2 10am-2pm
DESCRIPTION:
URL:https://chaisr.org/event/feria-communitaria-de-sauld-y-recursos-may-2-10am-2pm/
END:VEVENT
BEGIN:VEVENT
DTSTART;TZID=America/Los_Angeles:20260513T080000
DTEND;TZID=America/Los_Angeles:20260514T170000
DTSTAMP:20260425T134326
CREATED:20260421T213732Z
LAST-MODIFIED:20260421T213732Z
UID:4043-1778659200-1778778000@chaisr.org
SUMMARY:Tribal Veterans Mental Health Summit: May 13-14 8am to 5pm
DESCRIPTION:
URL:https://chaisr.org/event/tribal-veterans-mental-health-summit-may-13-14-8am-to-5pm/
END:VEVENT
BEGIN:VEVENT
DTSTART;TZID=America/Los_Angeles:20260516T083000
DTEND;TZID=America/Los_Angeles:20260516T170000
DTSTAMP:20260425T134326
CREATED:20260421T213851Z
LAST-MODIFIED:20260421T213851Z
UID:4045-1778920200-1778950800@chaisr.org
SUMMARY:Daisy Ride/Walk May 16 8:30am
DESCRIPTION:
URL:https://chaisr.org/event/daisy-ride-walk-may-16-830am/
END:VEVENT
BEGIN:VEVENT
DTSTART;TZID=America/Los_Angeles:20260516T110000
DTEND;TZID=America/Los_Angeles:20260516T150000
DTSTAMP:20260425T134326
CREATED:20260421T214632Z
LAST-MODIFIED:20260421T214632Z
UID:4047-1778929200-1778943600@chaisr.org
SUMMARY:5th Annual Anti-Human Trafficking Walk for Youth: May 16 11am-3pm
DESCRIPTION:
URL:https://chaisr.org/event/5th-annual-anti-human-trafficking-walk-for-youth-may-16-11am-3pm/
END:VEVENT
BEGIN:VEVENT
DTSTART;TZID=America/Los_Angeles:20260530T100000
DTEND;TZID=America/Los_Angeles:20260530T130000
DTSTAMP:20260425T134326
CREATED:20260421T220034Z
LAST-MODIFIED:20260421T220034Z
UID:4050-1780135200-1780146000@chaisr.org
SUMMARY:Human and Pet Wellness Event: May 30 10am-1pm
DESCRIPTION:
URL:https://chaisr.org/event/human-and-pet-wellness-event-may-30-10am-1pm/
END:VEVENT
BEGIN:VEVENT
DTSTART;TZID=America/Los_Angeles:20260609T080000
DTEND;TZID=America/Los_Angeles:20260610T170000
DTSTAMP:20260425T134326
CREATED:20260319T174639Z
LAST-MODIFIED:20260319T174639Z
UID:3823-1780992000-1781110800@chaisr.org
SUMMARY:NICC2026 National Innovative Communities Conference - Riverside Convention Center
DESCRIPTION:
URL:https://chaisr.org/event/nicc2026-national-innovative-communities-conference-riverside-convention-center/
END:VEVENT
END:VCALENDAR